BEGIN:VCALENDAR
VERSION:2.0
PRODID:icalendar-ruby
CALSCALE:GREGORIAN
METHOD:PUBLISH
BEGIN:VTIMEZONE
TZID:Australia/Brisbane
BEGIN:STANDARD
DTSTART:19920301T020000
TZOFFSETFROM:+1100
TZOFFSETTO:+1000
TZNAME:AEST
END:STANDARD
END:VTIMEZONE
BEGIN:VEVENT
DTSTAMP:20260421T085319Z
UID:inspection_2998203
DTSTART;TZID=Australia/Brisbane:20260418T113000
DTEND;TZID=Australia/Brisbane:20260418T120000
CLASS:PUBLIC
CREATED:20260415T114855
DESCRIPTION: 
LAST-MODIFIED:20260415T114855
LOCATION:8 Allamanda Crescent\, ANNANDALE QLD 4814\, Australia
SUMMARY:8 Allamanda Crescent\,  Inspection
URL;VALUE=URI:
END:VEVENT
END:VCALENDAR
